BEGIN:VCALENDAR
VERSION:2.0
PRODID:-//ChamberMaster//Event Calendar 2.0//EN
METHOD:PUBLISH
X-PUBLISHED-TTL:P1H
REFRESH-INTERVAL:P1H
CALSCALE:GREGORIAN
BEGIN:VTIMEZONE
TZID:America/Denver
BEGIN:DAYLIGHT
RRULE:FREQ=YEARLY;BYMONTH=3;BYDAY=2SU
DTSTART:20070101T000000
TZOFFSETFROM:-0700
TZOFFSETTO:-0600
TZNAME:Mountain Daylight Time
END:DAYLIGHT
BEGIN:STANDARD
RRULE:FREQ=YEARLY;BYMONTH=11;BYDAY=1SU
DTSTART:20070101T000000
TZOFFSETFROM:-0600
TZOFFSETTO:-0700
TZNAME:Mountain Standard Time
END:STANDARD
END:VTIMEZONE
BEGIN:VEVENT
DTSTART;TZID=America/Denver:20260429T090000
DTEND;TZID=America/Denver:20260429T100000
X-MICROSOFT-CDO-ALLDAYEVENT:FALSE
SUMMARY:CEU Live Webinar - Floods\, Faults & Firestorms: Wildfire\, Earthquake and Flood Risk in the US
DESCRIPTION:Wildfires\, earthquakes\, and floods aren't just regional concerns. Discover how these threats are growing nationwide and what insurance professionals need to know to stay ahead.1 General CE Credit Hours
X-ALT-DESC;FMTTYPE=text/html:<!DOCTYPE html><html><head><title></title></head><body aria-disabled="false"><p>Wildfires\, earthquakes\, and floods aren&rsquo\;t just regional concerns. Discover how these threats are growing nationwide&mdash\;and what insurance professionals need to know to stay ahead.</p><p>1 General CE Credit Hours</p><p><br></p></body></html>
LOCATION:
UID:e.1227.1418982
SEQUENCE:3
DTSTAMP:20260423T114816Z
URL:https://members.iiamt.org/events/Details/ceu-live-webinar-floods-faults-firestorms-wildfire-earthquake-and-flood-risk-in-the-us-1677159?sourceTypeId=Hub
END:VEVENT
END:VCALENDAR
