BEGIN:VCALENDAR
VERSION:2.0
PRODID:-//ChamberMaster//Event Calendar 2.0//EN
METHOD:PUBLISH
X-PUBLISHED-TTL:P1H
REFRESH-INTERVAL:P1H
CALSCALE:GREGORIAN
BEGIN:VTIMEZONE
TZID:America/Denver
BEGIN:DAYLIGHT
RRULE:FREQ=YEARLY;BYMONTH=3;BYDAY=2SU
DTSTART:20070101T000000
TZOFFSETFROM:-0700
TZOFFSETTO:-0600
TZNAME:Mountain Daylight Time
END:DAYLIGHT
BEGIN:STANDARD
RRULE:FREQ=YEARLY;BYMONTH=11;BYDAY=1SU
DTSTART:20070101T000000
TZOFFSETFROM:-0600
TZOFFSETTO:-0700
TZNAME:Mountain Standard Time
END:STANDARD
END:VTIMEZONE
BEGIN:VEVENT
DTSTART;TZID=America/Denver:20260422T110000
DTEND;TZID=America/Denver:20260422T140000
X-MICROSOFT-CDO-ALLDAYEVENT:FALSE
SUMMARY:CEU Live Webinar - From Drizzle to Disaster: A Deep Dive into Flood Insurance
DESCRIPTION:In this 3-hour webinar\, unpack flood myths\, Risk Rating 2.0\, and the tools you need to handle claims\, clients\, and coverage in an evolving flood landscape.3 General CE Credit Hours
X-ALT-DESC;FMTTYPE=text/html:<!DOCTYPE html><html><head><title></title></head><body aria-disabled="false"><p>In this 3-hour webinar\, unpack flood myths\, Risk Rating 2.0\, and the tools you need to handle claims\, clients\, and coverage in an evolving flood landscape.</p><p>3 General CE Credit Hours</p><p><br></p></body></html>
LOCATION:
UID:e.1227.1418964
SEQUENCE:3
DTSTAMP:20260423T114646Z
URL:https://members.iiamt.org/events/Details/ceu-live-webinar-from-drizzle-to-disaster-a-deep-dive-into-flood-insurance-1677141?sourceTypeId=Hub
END:VEVENT
END:VCALENDAR
