BEGIN:VCALENDAR
VERSION:2.0
PRODID:-//ChamberMaster//Event Calendar 2.0//EN
METHOD:PUBLISH
X-PUBLISHED-TTL:P1H
REFRESH-INTERVAL:P1H
CALSCALE:GREGORIAN
BEGIN:VTIMEZONE
TZID:America/Denver
BEGIN:DAYLIGHT
RRULE:FREQ=YEARLY;BYMONTH=3;BYDAY=2SU
DTSTART:20070101T000000
TZOFFSETFROM:-0700
TZOFFSETTO:-0600
TZNAME:Mountain Daylight Time
END:DAYLIGHT
BEGIN:STANDARD
RRULE:FREQ=YEARLY;BYMONTH=11;BYDAY=1SU
DTSTART:20070101T000000
TZOFFSETFROM:-0600
TZOFFSETTO:-0700
TZNAME:Mountain Standard Time
END:STANDARD
END:VTIMEZONE
BEGIN:VEVENT
DTSTART;TZID=America/Denver:20260421T090000
DTEND;TZID=America/Denver:20260421T100000
X-MICROSOFT-CDO-ALLDAYEVENT:FALSE
SUMMARY:CEU Live Webinar - Insuring Small and Medium Businesses in the Age of Cybercrime: Coverage Trends and Best Practices
DESCRIPTION:Cyber threats are hitting SMEs hard are your clients ready? Learn to navigate coverage\, avoid pitfalls\, and elevate your advisory role in this essential one-hour session.1 General CE Credit Hours
X-ALT-DESC;FMTTYPE=text/html:<!DOCTYPE html><html><head><title></title></head><body aria-disabled="false"><p>Cyber threats are hitting SMEs hard&mdash\;are your clients ready? Learn to navigate coverage\, avoid pitfalls\, and elevate your advisory role in this essential one-hour session.</p><p>1 General CE Credit Hours</p><p><br></p></body></html>
LOCATION:
UID:e.1227.1418937
SEQUENCE:3
DTSTAMP:20260423T115000Z
URL:https://members.iiamt.org/events/Details/ceu-live-webinar-insuring-small-and-medium-businesses-in-the-age-of-cybercrime-coverage-trends-and-best-practices-1677120?sourceTypeId=Hub
END:VEVENT
END:VCALENDAR
