BEGIN:VCALENDAR
VERSION:2.0
PRODID:-//ChamberMaster//Event Calendar 2.0//EN
METHOD:PUBLISH
X-PUBLISHED-TTL:P1H
REFRESH-INTERVAL:P1H
CALSCALE:GREGORIAN
BEGIN:VTIMEZONE
TZID:America/Denver
BEGIN:DAYLIGHT
RRULE:FREQ=YEARLY;BYMONTH=3;BYDAY=2SU
DTSTART:20070101T000000
TZOFFSETFROM:-0700
TZOFFSETTO:-0600
TZNAME:Mountain Daylight Time
END:DAYLIGHT
BEGIN:STANDARD
RRULE:FREQ=YEARLY;BYMONTH=11;BYDAY=1SU
DTSTART:20070101T000000
TZOFFSETFROM:-0600
TZOFFSETTO:-0700
TZNAME:Mountain Standard Time
END:STANDARD
END:VTIMEZONE
BEGIN:VEVENT
DTSTART;TZID=America/Denver:20260416T090000
DTEND;TZID=America/Denver:20260416T100000
X-MICROSOFT-CDO-ALLDAYEVENT:FALSE
SUMMARY:CEU Live Webinar - The Face of Risk: Biometrics\, Privacy Battles\, and Liability Trends
DESCRIPTION:Biometric data powers convenience\, but it also fuels lawsuits\, cyber claims\, and regulatory scrutiny. See how identity-based risk is changing liability and coverage expectations.1 General CE Credit Hours
X-ALT-DESC;FMTTYPE=text/html:<!DOCTYPE html><html><head><title></title></head><body aria-disabled="false"><p>Biometric data powers convenience\, but it also fuels lawsuits\, cyber claims\, and regulatory scrutiny. See how identity-based risk is changing liability and coverage expectations.</p><p>1 General CE Credit Hours</p><p><br></p></body></html>
LOCATION:
UID:e.1227.1418930
SEQUENCE:3
DTSTAMP:20260423T114823Z
URL:https://members.iiamt.org/events/Details/ceu-live-webinar-the-face-of-risk-biometrics-privacy-battles-and-liability-trends-1677113?sourceTypeId=Hub
END:VEVENT
END:VCALENDAR
