BEGIN:VCALENDAR
VERSION:2.0
PRODID:-//ChamberMaster//Event Calendar 2.0//EN
METHOD:PUBLISH
X-PUBLISHED-TTL:P1H
REFRESH-INTERVAL:P1H
CALSCALE:GREGORIAN
BEGIN:VTIMEZONE
TZID:America/Denver
BEGIN:DAYLIGHT
RRULE:FREQ=YEARLY;BYMONTH=3;BYDAY=2SU
DTSTART:20070101T000000
TZOFFSETFROM:-0700
TZOFFSETTO:-0600
TZNAME:Mountain Daylight Time
END:DAYLIGHT
BEGIN:STANDARD
RRULE:FREQ=YEARLY;BYMONTH=11;BYDAY=1SU
DTSTART:20070101T000000
TZOFFSETFROM:-0600
TZOFFSETTO:-0700
TZNAME:Mountain Standard Time
END:STANDARD
END:VTIMEZONE
BEGIN:VEVENT
DTSTART;TZID=America/Denver:20260407T110000
DTEND;TZID=America/Denver:20260407T130000
X-MICROSOFT-CDO-ALLDAYEVENT:FALSE
SUMMARY:CEU Live Webinar - The Financial Planning Pyramid: Simple Steps to Protect Income\, Assets and Legacy
DESCRIPTION:Build financial strategies from the ground up by following a clear pyramid framework that connects money management\, protection\, retirement planning\, and legacy goals. 2 General CE Credit Hours
X-ALT-DESC;FMTTYPE=text/html:<!DOCTYPE html><html><head><title></title></head><body aria-disabled="false"><p>Build financial strategies from the ground up by following a clear pyramid framework that connects money management\, protection\, retirement planning\, and legacy goals.&nbsp\;</p><p>2 General CE Credit Hours</p><p><br></p></body></html>
LOCATION:
UID:e.1227.1418893
SEQUENCE:3
DTSTAMP:20260423T114950Z
URL:https://members.iiamt.org/events/Details/ceu-live-webinar-the-financial-planning-pyramid-simple-steps-to-protect-income-assets-and-legacy-1677071?sourceTypeId=Hub
END:VEVENT
END:VCALENDAR
