BEGIN:VCALENDAR
VERSION:2.0
PRODID:-//ChamberMaster//Event Calendar 2.0//EN
METHOD:PUBLISH
X-PUBLISHED-TTL:P1H
REFRESH-INTERVAL:P1H
CALSCALE:GREGORIAN
BEGIN:VTIMEZONE
TZID:America/Denver
BEGIN:DAYLIGHT
RRULE:FREQ=YEARLY;BYMONTH=3;BYDAY=2SU
DTSTART:20070101T000000
TZOFFSETFROM:-0700
TZOFFSETTO:-0600
TZNAME:Mountain Daylight Time
END:DAYLIGHT
BEGIN:STANDARD
RRULE:FREQ=YEARLY;BYMONTH=11;BYDAY=1SU
DTSTART:20070101T000000
TZOFFSETFROM:-0600
TZOFFSETTO:-0700
TZNAME:Mountain Standard Time
END:STANDARD
END:VTIMEZONE
BEGIN:VEVENT
DTSTART;TZID=America/Denver:20260415T110000
DTEND;TZID=America/Denver:20260415T140000
X-MICROSOFT-CDO-ALLDAYEVENT:FALSE
SUMMARY:CEU Live Webinar - The Integrity Equation: Balancing Incentives\, Loyalty and Ethical Judgment
DESCRIPTION:Balance incentives\, loyalty\, and ethics with confidence. Learn how sound judgment\, transparency\, and documentation protect clients and careers when pressures collide. 3 Ethics CE Credit Hours
X-ALT-DESC;FMTTYPE=text/html:<!DOCTYPE html><html><head><title></title></head><body aria-disabled="false"><p>Balance incentives\, loyalty\, and ethics with confidence. Learn how sound judgment\, transparency\, and documentation protect clients and careers when pressures collide.&nbsp\;</p><p>3 Ethics CE Credit Hours</p><p><br></p></body></html>
LOCATION:
UID:e.1227.1418925
SEQUENCE:3
DTSTAMP:20260423T114638Z
URL:https://members.iiamt.org/events/Details/ceu-live-webinar-the-integrity-equation-balancing-incentives-loyalty-and-ethical-judgment-1677109?sourceTypeId=Hub
END:VEVENT
END:VCALENDAR
