BEGIN:VCALENDAR
VERSION:2.0
PRODID:-//ChamberMaster//Event Calendar 2.0//EN
METHOD:PUBLISH
X-PUBLISHED-TTL:P1H
REFRESH-INTERVAL:P1H
CALSCALE:GREGORIAN
BEGIN:VTIMEZONE
TZID:America/Denver
BEGIN:DAYLIGHT
RRULE:FREQ=YEARLY;BYMONTH=3;BYDAY=2SU
DTSTART:20070101T000000
TZOFFSETFROM:-0700
TZOFFSETTO:-0600
TZNAME:Mountain Daylight Time
END:DAYLIGHT
BEGIN:STANDARD
RRULE:FREQ=YEARLY;BYMONTH=11;BYDAY=1SU
DTSTART:20070101T000000
TZOFFSETFROM:-0600
TZOFFSETTO:-0700
TZNAME:Mountain Standard Time
END:STANDARD
END:VTIMEZONE
BEGIN:VEVENT
DTSTART;TZID=America/Denver:20260422T090000
DTEND;TZID=America/Denver:20260422T100000
X-MICROSOFT-CDO-ALLDAYEVENT:FALSE
SUMMARY:CEU Live Webinar - The Power of ERM: Strengthening Strategy Through Risk Thinking
DESCRIPTION:ERM helps you move beyond policies into strategy. Discover how to strengthen your practice and guide clients by thinking bigger and smarter about risk.1 General CE Credit Hours
X-ALT-DESC;FMTTYPE=text/html:<!DOCTYPE html><html><head><title></title></head><body aria-disabled="false"><p>ERM helps you move beyond policies into strategy. Discover how to strengthen your practice and guide clients by thinking bigger&mdash\;and smarter&mdash\;about risk.</p><p>1 General CE Credit Hours</p><p><br></p></body></html>
LOCATION:
UID:e.1227.1418959
SEQUENCE:3
DTSTAMP:20260423T114812Z
URL:https://members.iiamt.org/events/Details/ceu-live-webinar-the-power-of-erm-strengthening-strategy-through-risk-thinking-1677136?sourceTypeId=Hub
END:VEVENT
END:VCALENDAR
