BEGIN:VCALENDAR
VERSION:2.0
PRODID:-//ChamberMaster//Event Calendar 2.0//EN
METHOD:PUBLISH
X-PUBLISHED-TTL:P1H
REFRESH-INTERVAL:P1H
CALSCALE:GREGORIAN
BEGIN:VTIMEZONE
TZID:America/Denver
BEGIN:DAYLIGHT
RRULE:FREQ=YEARLY;BYMONTH=3;BYDAY=2SU
DTSTART:20070101T000000
TZOFFSETFROM:-0700
TZOFFSETTO:-0600
TZNAME:Mountain Daylight Time
END:DAYLIGHT
BEGIN:STANDARD
RRULE:FREQ=YEARLY;BYMONTH=11;BYDAY=1SU
DTSTART:20070101T000000
TZOFFSETFROM:-0600
TZOFFSETTO:-0700
TZNAME:Mountain Standard Time
END:STANDARD
END:VTIMEZONE
BEGIN:VEVENT
DTSTART;TZID=America/Denver:20260414T090000
DTEND;TZID=America/Denver:20260414T100000
X-MICROSOFT-CDO-ALLDAYEVENT:FALSE
SUMMARY:CEU Live Webinar - Unconventional Dwellings: When the Form Doesn't Match the Risk
DESCRIPTION:Learn how unconventional dwellings impact underwriting\, coverage\, and claims. Understand risk considerations for barndominiums\, modular homes\, manufactured housing\, and shipping container properties.1 General CE Credit Hours
X-ALT-DESC;FMTTYPE=text/html:<!DOCTYPE html><html><head><title></title></head><body aria-disabled="false"><p>Learn how unconventional dwellings impact underwriting\, coverage\, and claims. Understand risk considerations for barndominiums\, modular homes\, manufactured housing\, and shipping container properties.</p><p>1 General CE Credit Hours</p><p><br></p></body></html>
LOCATION:
UID:e.1227.1418915
SEQUENCE:3
DTSTAMP:20260423T114645Z
URL:https://members.iiamt.org/events/Details/ceu-live-webinar-unconventional-dwellings-when-the-form-doesn-t-match-the-risk-1677093?sourceTypeId=Hub
END:VEVENT
END:VCALENDAR
