BEGIN:VCALENDAR
VERSION:2.0
PRODID:-//ChamberMaster//Event Calendar 2.0//EN
METHOD:PUBLISH
X-PUBLISHED-TTL:P1H
REFRESH-INTERVAL:P1H
CALSCALE:GREGORIAN
BEGIN:VTIMEZONE
TZID:America/Denver
BEGIN:DAYLIGHT
RRULE:FREQ=YEARLY;BYMONTH=3;BYDAY=2SU
DTSTART:20070101T000000
TZOFFSETFROM:-0700
TZOFFSETTO:-0600
TZNAME:Mountain Daylight Time
END:DAYLIGHT
BEGIN:STANDARD
RRULE:FREQ=YEARLY;BYMONTH=11;BYDAY=1SU
DTSTART:20070101T000000
TZOFFSETFROM:-0600
TZOFFSETTO:-0700
TZNAME:Mountain Standard Time
END:STANDARD
END:VTIMEZONE
BEGIN:VEVENT
DTSTART;TZID=America/Denver:20260409T120000
DTEND;TZID=America/Denver:20260409T130000
X-MICROSOFT-CDO-ALLDAYEVENT:FALSE
SUMMARY:CEU Live Webinar - Weathering Change: Mapping the Insurance Impact of Climate Migration
DESCRIPTION:Discover how climate-driven migration affects underwriting\, pricing\, coverage gaps\, and claims handling. Gain practical strategies to navigate shifting populations and evolving insurance markets.1 General CE Credit Hours
X-ALT-DESC;FMTTYPE=text/html:<!DOCTYPE html><html><head><title></title></head><body aria-disabled="false"><p>Discover how climate-driven migration affects underwriting\, pricing\, coverage gaps\, and claims handling. Gain practical strategies to navigate shifting populations and evolving insurance markets.</p><p>1 General CE Credit Hours</p><p><br></p></body></html>
LOCATION:
UID:e.1227.1418910
SEQUENCE:3
DTSTAMP:20260423T114817Z
URL:https://members.iiamt.org/events/Details/ceu-live-webinar-weathering-change-mapping-the-insurance-impact-of-climate-migration-1677088?sourceTypeId=Hub
END:VEVENT
END:VCALENDAR
