BEGIN:VCALENDAR
VERSION:2.0
PRODID:-//ChamberMaster//Event Calendar 2.0//EN
METHOD:PUBLISH
X-PUBLISHED-TTL:P1H
REFRESH-INTERVAL:P1H
CALSCALE:GREGORIAN
BEGIN:VTIMEZONE
TZID:America/Denver
BEGIN:DAYLIGHT
RRULE:FREQ=YEARLY;BYMONTH=3;BYDAY=2SU
DTSTART:20070101T000000
TZOFFSETFROM:-0700
TZOFFSETTO:-0600
TZNAME:Mountain Daylight Time
END:DAYLIGHT
BEGIN:STANDARD
RRULE:FREQ=YEARLY;BYMONTH=11;BYDAY=1SU
DTSTART:20070101T000000
TZOFFSETFROM:-0600
TZOFFSETTO:-0700
TZNAME:Mountain Standard Time
END:STANDARD
END:VTIMEZONE
BEGIN:VEVENT
DTSTART;TZID=America/Denver:20260407T090000
DTEND;TZID=America/Denver:20260407T100000
X-MICROSOFT-CDO-ALLDAYEVENT:FALSE
SUMMARY:CEU Live Webinar - When Man's Best Friend Bites: The Cost and Coverage of Canine Claims
DESCRIPTION:Dog-bite claims can escalate fast. Learn what drives the cost\, how coverage responds\, and where smart claims handling can make all the difference. 1 General CE Credit Hours
X-ALT-DESC;FMTTYPE=text/html:<!DOCTYPE html><html><head><title></title></head><body aria-disabled="false"><p>Dog-bite claims can escalate fast. Learn what drives the cost\, how coverage responds\, and where smart claims handling can make all the difference.&nbsp\;</p><p>1 General CE Credit Hours</p><p><br></p></body></html>
LOCATION:
UID:e.1227.1418887
SEQUENCE:3
DTSTAMP:20260423T114822Z
URL:https://members.iiamt.org/events/Details/ceu-live-webinar-when-man-s-best-friend-bites-the-cost-and-coverage-of-canine-claims-1677065?sourceTypeId=Hub
END:VEVENT
END:VCALENDAR
