BEGIN:VCALENDAR
VERSION:2.0
PRODID:-//ChamberMaster//Event Calendar 2.0//EN
METHOD:PUBLISH
X-PUBLISHED-TTL:P1H
REFRESH-INTERVAL:P1H
CALSCALE:GREGORIAN
BEGIN:VTIMEZONE
TZID:America/Denver
BEGIN:DAYLIGHT
RRULE:FREQ=YEARLY;BYMONTH=3;BYDAY=2SU
DTSTART:20070101T000000
TZOFFSETFROM:-0700
TZOFFSETTO:-0600
TZNAME:Mountain Daylight Time
END:DAYLIGHT
BEGIN:STANDARD
RRULE:FREQ=YEARLY;BYMONTH=11;BYDAY=1SU
DTSTART:20070101T000000
TZOFFSETFROM:-0600
TZOFFSETTO:-0700
TZNAME:Mountain Standard Time
END:STANDARD
END:VTIMEZONE
BEGIN:VEVENT
DTSTART;TZID=America/Denver:20260429T110000
DTEND;TZID=America/Denver:20260429T120000
X-MICROSOFT-CDO-ALLDAYEVENT:FALSE
SUMMARY:CEU Live Webinar - Who's Covered? Demystifying Additional Insured Endorsements
DESCRIPTION:When does adding an additional insured make strategic sense\, and when does it create more risk than reward? Demystify these endorsements\, from compliance requirements to contractual landmines. Walk away ready to protect your clients and avoid costly missteps. 1 General CE Credit Hours
X-ALT-DESC;FMTTYPE=text/html:<!DOCTYPE html><html><head><title></title></head><body aria-disabled="false"><p>When does adding an additional insured make strategic sense\, and when does it create more risk than reward? Demystify these endorsements\, from compliance requirements to contractual landmines. Walk away ready to protect your clients and avoid costly missteps.&nbsp\;</p><p>1 General CE Credit Hours</p><p><br></p></body></html>
LOCATION:
UID:e.1227.1418984
SEQUENCE:3
DTSTAMP:20260423T114350Z
URL:https://members.iiamt.org/events/Details/ceu-live-webinar-who-s-covered-demystifying-additional-insured-endorsements-1677161?sourceTypeId=Hub
END:VEVENT
END:VCALENDAR
