BEGIN:VCALENDAR
VERSION:2.0
PRODID:-//ChamberMaster//Event Calendar 2.0//EN
METHOD:PUBLISH
X-PUBLISHED-TTL:P1H
REFRESH-INTERVAL:P1H
CALSCALE:GREGORIAN
BEGIN:VTIMEZONE
TZID:America/Denver
BEGIN:DAYLIGHT
RRULE:FREQ=YEARLY;BYMONTH=3;BYDAY=2SU
DTSTART:20070101T000000
TZOFFSETFROM:-0700
TZOFFSETTO:-0600
TZNAME:Mountain Daylight Time
END:DAYLIGHT
BEGIN:STANDARD
RRULE:FREQ=YEARLY;BYMONTH=11;BYDAY=1SU
DTSTART:20070101T000000
TZOFFSETFROM:-0600
TZOFFSETTO:-0700
TZNAME:Mountain Standard Time
END:STANDARD
END:VTIMEZONE
BEGIN:VEVENT
DTSTART;TZID=America/Denver:20260414T130000
DTEND;TZID=America/Denver:20260414T160000
X-MICROSOFT-CDO-ALLDAYEVENT:FALSE
SUMMARY:E&O-Customers First & How to Avoid Claims in Insurance
DESCRIPTION:E&O-Customers First & How to Avoid Claims in Insurance: MT Course ID 6000192207 - Approved for 3 PC CE credit in MT. Also approved for E&O Risk Management Credit with Westport and Utica. For all other E&O carriers\, contact them to see if this course will qualify.  This is a pre-recorded live webinar. Attendance is tracked by random polling questions. In order to get CE credit\, you must respond to all polling questions. No final exam is required. CE will be filed within one week of the course date. Certificates of completion will be emailed within one week of completion. If you have content questions or general questions\, please email skylar@piiac.com.
X-ALT-DESC;FMTTYPE=text/html:<!DOCTYPE html><html><head><title></title></head><body aria-disabled="false"><p><span style='color: rgb(0\, 0\, 0)\; font-family: "Segoe UI"\, Frutiger\, "Frutiger Linotype"\, "Dejavu Sans"\, "Helvetica Neue"\, Arial\, sans-serif\, VideoJS\; font-size: 16px\; font-style: normal\; font-variant-ligatures: normal\; font-variant-caps: normal\; font-weight: 400\; letter-spacing: normal\; orphans: 2\; text-align: start\; text-indent: 0px\; text-transform: none\; widows: 2\; word-spacing: 0px\; -webkit-text-stroke-width: 0px\; white-space: pre-wrap\; background-color: rgb(255\, 255\, 255)\; text-decoration-thickness: initial\; text-decoration-style: initial\; text-decoration-color: initial\; display: inline !important\; float: none\;'><strong fr-original-style="" style="font-weight: 700\;">E&amp\;O-Customers First &amp\; How to Avoid Claims in Insurance:&nbsp\;</strong></span></p><p><span style='color: rgb(0\, 0\, 0)\; font-family: "Segoe UI"\, Frutiger\, "Frutiger Linotype"\, "Dejavu Sans"\, "Helvetica Neue"\, Arial\, sans-serif\, VideoJS\; font-size: 16px\; font-style: normal\; font-variant-ligatures: normal\; font-variant-caps: normal\; font-weight: 400\; letter-spacing: normal\; orphans: 2\; text-align: start\; text-indent: 0px\; text-transform: none\; widows: 2\; word-spacing: 0px\; -webkit-text-stroke-width: 0px\; white-space: pre-wrap\; background-color: rgb(255\, 255\, 255)\; text-decoration-thickness: initial\; text-decoration-style: initial\; text-decoration-color: initial\; display: inline !important\; float: none\;'><strong fr-original-style="" style="font-weight: 700\;">MT Course ID 6000192207</strong> - Approved for 3 PC CE credit in MT. Also approved for E&amp\;O Risk Management Credit with Westport and Utica. For all other E&amp\;O carriers\, contact them to see if this course will qualify. &nbsp\;</span></p><p><span style='color: rgb(0\, 0\, 0)\; font-family: "Segoe UI"\, Frutiger\, "Frutiger Linotype"\, "Dejavu Sans"\, "Helvetica Neue"\, Arial\, sans-serif\, VideoJS\; font-size: 16px\; font-style: normal\; font-variant-ligatures: normal\; font-variant-caps: normal\; font-weight: 400\; letter-spacing: normal\; orphans: 2\; text-align: start\; text-indent: 0px\; text-transform: none\; widows: 2\; word-spacing: 0px\; -webkit-text-stroke-width: 0px\; white-space: pre-wrap\; background-color: rgb(255\, 255\, 255)\; text-decoration-thickness: initial\; text-decoration-style: initial\; text-decoration-color: initial\; display: inline !important\; float: none\;'>This is a pre-recorded live webinar. Attendance is tracked by random polling questions. In order to get CE credit\, you must respond to all polling questions. No final exam is required. CE will be filed within one week of the course date. Certificates of completion will be emailed within one week of completion.&nbsp\;</span></p><p><span style='color: rgb(0\, 0\, 0)\; font-family: "Segoe UI"\, Frutiger\, "Frutiger Linotype"\, "Dejavu Sans"\, "Helvetica Neue"\, Arial\, sans-serif\, VideoJS\; font-size: 16px\; font-style: normal\; font-variant-ligatures: normal\; font-variant-caps: normal\; font-weight: 400\; letter-spacing: normal\; orphans: 2\; text-align: start\; text-indent: 0px\; text-transform: none\; widows: 2\; word-spacing: 0px\; -webkit-text-stroke-width: 0px\; white-space: pre-wrap\; background-color: rgb(255\, 255\, 255)\; text-decoration-thickness: initial\; text-decoration-style: initial\; text-decoration-color: initial\; display: inline !important\; float: none\;'>If you have content questions or general questions\, please email skylar@piiac.com.</span> </p></body></html>
LOCATION:
UID:e.1227.1425029
SEQUENCE:3
DTSTAMP:20260423T113557Z
URL:https://members.iiamt.org/events/Details/e-o-customers-first-how-to-avoid-claims-in-insurance-1685075?sourceTypeId=Hub
END:VEVENT
END:VCALENDAR
