BEGIN:VCALENDAR
VERSION:2.0
PRODID:-//ChamberMaster//Event Calendar 2.0//EN
METHOD:PUBLISH
X-PUBLISHED-TTL:P1H
REFRESH-INTERVAL:P1H
CALSCALE:GREGORIAN
BEGIN:VTIMEZONE
TZID:America/Denver
BEGIN:DAYLIGHT
RRULE:FREQ=YEARLY;BYMONTH=3;BYDAY=2SU
DTSTART:20070101T000000
TZOFFSETFROM:-0700
TZOFFSETTO:-0600
TZNAME:Mountain Daylight Time
END:DAYLIGHT
BEGIN:STANDARD
RRULE:FREQ=YEARLY;BYMONTH=11;BYDAY=1SU
DTSTART:20070101T000000
TZOFFSETFROM:-0600
TZOFFSETTO:-0700
TZNAME:Mountain Standard Time
END:STANDARD
END:VTIMEZONE
BEGIN:VEVENT
DTSTART;TZID=America/Denver:20260826T080000
DTEND;TZID=America/Denver:20260826T110000
X-MICROSOFT-CDO-ALLDAYEVENT:FALSE
SUMMARY:Webinar Wednesday - Commercial Property Checklist – Exposures\, Coverages & Endorsements
DESCRIPTION:Learn how to identify key commercial property exposures and determine which endorsements enhance coverage and which may restrict it. This course examines core property forms and endorsements to help professionals confidently advise clients on coverage decisions.This course is hosted by the Independent Insurance Agents of Nebraska. Click Register below to be directed to their registration page!
X-ALT-DESC;FMTTYPE=text/html:<!DOCTYPE html><html><head><title></title></head><body aria-disabled="false"><p style='box-sizing: border-box\; margin: 0px 0px 10px\; color: rgb(51\, 51\, 51)\; font-family: "Open Sans"\, sans-serif\; font-size: 14px\; font-style: normal\; font-variant-ligatures: normal\; font-variant-caps: normal\; font-weight: 400\; letter-spacing: normal\; orphans: 2\; text-align: start\; text-indent: 0px\; text-transform: none\; widows: 2\; word-spacing: 0px\; -webkit-text-stroke-width: 0px\; white-space: normal\; background-color: rgb(255\, 255\, 255)\; text-decoration-thickness: initial\; text-decoration-style: initial\; text-decoration-color: initial\;'>Learn how to identify key commercial property exposures and determine which endorsements enhance coverage&mdash\;and which may restrict it. This course examines core property forms and endorsements to help professionals confidently advise clients on coverage decisions.</p><p style='box-sizing: border-box\; margin: 0px 0px 10px\; color: rgb(51\, 51\, 51)\; font-family: "Open Sans"\, sans-serif\; font-size: 14px\; font-style: normal\; font-variant-ligatures: normal\; font-variant-caps: normal\; font-weight: 400\; letter-spacing: normal\; orphans: 2\; text-align: start\; text-indent: 0px\; text-transform: none\; widows: 2\; word-spacing: 0px\; -webkit-text-stroke-width: 0px\; white-space: normal\; background-color: rgb(255\, 255\, 255)\; text-decoration-thickness: initial\; text-decoration-style: initial\; text-decoration-color: initial\;'>This course is hosted by the&nbsp\;<strong fr-original-style="box-sizing: border-box\; font-weight: 700\;" style="box-sizing: border-box\; font-weight: 700\;">Independent Insurance Agents of Nebraska</strong>. Click&nbsp\;<strong fr-original-style="box-sizing: border-box\; font-weight: 700\;" style="box-sizing: border-box\; font-weight: 700\;">Register&nbsp\;</strong>below to be directed to their registration page!</p></body></html>
LOCATION:
UID:e.1227.1451368
SEQUENCE:3
DTSTAMP:20260425T114348Z
URL:https://members.iiamt.org/events/Details/webinar-wednesday-commercial-property-checklist-exposures-coverages-endorsements-1719096?sourceTypeId=Hub
END:VEVENT
END:VCALENDAR
